BEGIN:VCALENDAR
VERSION:2.0
PRODID:-//Miracle Baptist Ministry - ECPv6.2.2.1//NONSGML v1.0//EN
CALSCALE:GREGORIAN
METHOD:PUBLISH
X-ORIGINAL-URL:https://miraclembc.org
X-WR-CALDESC:Events for Miracle Baptist Ministry
REFRESH-INTERVAL;VALUE=DURATION:PT1H
X-Robots-Tag:noindex
X-PUBLISHED-TTL:PT1H
BEGIN:VTIMEZONE
TZID:UTC
BEGIN:STANDARD
TZOFFSETFROM:+0000
TZOFFSETTO:+0000
TZNAME:UTC
DTSTART:20230101T000000
END:STANDARD
END:VTIMEZONE
BEGIN:VEVENT
DTSTART;TZID=UTC:20230923T143000
DTEND;TZID=UTC:20230923T143000
DTSTAMP:20260420T102000
CREATED:20230903T145146Z
LAST-MODIFIED:20230903T145146Z
UID:4504-1695479400-1695479400@miraclembc.org
SUMMARY:Women’s Ministry Fellowship
DESCRIPTION:
URL:https://miraclembc.org/event/womens-ministry-fellowship-3/
LOCATION:8318 South Central Avenue\, Los Angeles\, CA\, 8318 South Central Avenue\, Los Angeles\, CA
CATEGORIES:September 2023
END:VEVENT
END:VCALENDAR