BEGIN:VCALENDAR
VERSION:2.0
PRODID:-//Miracle Baptist Ministry - ECPv6.2.2.1//NONSGML v1.0//EN
CALSCALE:GREGORIAN
METHOD:PUBLISH
X-ORIGINAL-URL:https://miraclembc.org
X-WR-CALDESC:Events for Miracle Baptist Ministry
REFRESH-INTERVAL;VALUE=DURATION:PT1H
X-Robots-Tag:noindex
X-PUBLISHED-TTL:PT1H
BEGIN:VTIMEZONE
TZID:UTC
BEGIN:STANDARD
TZOFFSETFROM:+0000
TZOFFSETTO:+0000
TZNAME:UTC
DTSTART:20240101T000000
END:STANDARD
END:VTIMEZONE
BEGIN:VEVENT
DTSTART;VALUE=DATE:20240602
DTEND;VALUE=DATE:20240603
DTSTAMP:20260421T083038
CREATED:20240602T012358Z
LAST-MODIFIED:20240602T012358Z
UID:5580-1717286400-1717372799@miraclembc.org
SUMMARY:Holy Communion
DESCRIPTION:
URL:https://miraclembc.org/event/holy-communion-13/
END:VEVENT
END:VCALENDAR