BEGIN:VCALENDAR
VERSION:2.0
PRODID:-//Miracle Baptist Ministry - ECPv6.2.2.1//NONSGML v1.0//EN
CALSCALE:GREGORIAN
METHOD:PUBLISH
X-WR-CALNAME:Miracle Baptist Ministry
X-ORIGINAL-URL:https://miraclembc.org
X-WR-CALDESC:Events for Miracle Baptist Ministry
REFRESH-INTERVAL;VALUE=DURATION:PT1H
X-Robots-Tag:noindex
X-PUBLISHED-TTL:PT1H
BEGIN:VTIMEZONE
TZID:UTC
BEGIN:STANDARD
TZOFFSETFROM:+0000
TZOFFSETTO:+0000
TZNAME:UTC
DTSTART:20230101T000000
END:STANDARD
END:VTIMEZONE
BEGIN:VEVENT
DTSTART;TZID=UTC:20230803T183000
DTEND;TZID=UTC:20230803T183000
DTSTAMP:20260423T203747
CREATED:20230729T203425Z
LAST-MODIFIED:20230729T205220Z
UID:4374-1691087400-1691087400@miraclembc.org
SUMMARY:August 3rd Men’s Ministry Meeting
DESCRIPTION:
URL:https://miraclembc.org/event/august-3rd-mens-ministry-meeting/
CATEGORIES:August 2023
END:VEVENT
BEGIN:VEVENT
DTSTART;TZID=UTC:20230808T180000
DTEND;TZID=UTC:20230808T180000
DTSTAMP:20260423T203747
CREATED:20230729T203622Z
LAST-MODIFIED:20230729T205355Z
UID:4376-1691517600-1691517600@miraclembc.org
SUMMARY:August 8th\, 9th & 10th Revival
DESCRIPTION:
URL:https://miraclembc.org/event/august-8th-9th-10th-revival/
CATEGORIES:August 2023
END:VEVENT
BEGIN:VEVENT
DTSTART;TZID=UTC:20230809T180000
DTEND;TZID=UTC:20230809T180000
DTSTAMP:20260423T203747
CREATED:20230729T203703Z
LAST-MODIFIED:20230729T205337Z
UID:4378-1691604000-1691604000@miraclembc.org
SUMMARY:August 8th\, 9th & 10th Revival
DESCRIPTION:
URL:https://miraclembc.org/event/august-8th-9th-10th-revival-2/
CATEGORIES:August 2023
END:VEVENT
BEGIN:VEVENT
DTSTART;TZID=UTC:20230810T180000
DTEND;TZID=UTC:20230810T180000
DTSTAMP:20260423T203747
CREATED:20230729T203743Z
LAST-MODIFIED:20230729T205314Z
UID:4381-1691690400-1691690400@miraclembc.org
SUMMARY:August 8th\, 9th & 10th Revival
DESCRIPTION:
URL:https://miraclembc.org/event/august-8th-9th-10th-revival-2-2/
CATEGORIES:August 2023
END:VEVENT
BEGIN:VEVENT
DTSTART;TZID=UTC:20230819T090000
DTEND;TZID=UTC:20230819T120000
DTSTAMP:20260423T203747
CREATED:20230813T160001Z
LAST-MODIFIED:20230813T160001Z
UID:4421-1692435600-1692446400@miraclembc.org
SUMMARY:Empowering Shades of Summer Community Event
DESCRIPTION:
URL:https://miraclembc.org/event/empowering-shades-of-summer-community-event/
LOCATION:9550 CRENSHAW BLVD.\, INGLEWOOD\, CA 90305\, 9550 CRENSHAW BLVD.\, INGLEWOOD\, CA 90305
CATEGORIES:August 2023
END:VEVENT
BEGIN:VEVENT
DTSTART;TZID=UTC:20230826T143000
DTEND;TZID=UTC:20230826T143000
DTSTAMP:20260423T203747
CREATED:20230729T203840Z
LAST-MODIFIED:20230729T203933Z
UID:4383-1693060200-1693060200@miraclembc.org
SUMMARY:August 26th Women’s Ministry Fellowship
DESCRIPTION:
URL:https://miraclembc.org/event/august-26th-womens-ministry-fellowship/
CATEGORIES:August 2023
END:VEVENT
END:VCALENDAR