BEGIN:VCALENDAR
VERSION:2.0
PRODID:-//Miracle Baptist Ministry - ECPv6.2.2.1//NONSGML v1.0//EN
CALSCALE:GREGORIAN
METHOD:PUBLISH
X-WR-CALNAME:Miracle Baptist Ministry
X-ORIGINAL-URL:https://miraclembc.org
X-WR-CALDESC:Events for Miracle Baptist Ministry
REFRESH-INTERVAL;VALUE=DURATION:PT1H
X-Robots-Tag:noindex
X-PUBLISHED-TTL:PT1H
BEGIN:VTIMEZONE
TZID:UTC
BEGIN:STANDARD
TZOFFSETFROM:+0000
TZOFFSETTO:+0000
TZNAME:UTC
DTSTART:20200101T000000
END:STANDARD
END:VTIMEZONE
BEGIN:VEVENT
DTSTART;VALUE=DATE:20200228
DTEND;VALUE=DATE:20200229
DTSTAMP:20260422T040957
CREATED:20200127T135317Z
LAST-MODIFIED:20200127T135317Z
UID:1673-1582848000-1582934399@miraclembc.org
SUMMARY:MHPD Family Fun Night
DESCRIPTION:
URL:https://miraclembc.org/event/mhpd-family-fun-night/
CATEGORIES:February 2020
END:VEVENT
END:VCALENDAR