BEGIN:VCALENDAR
VERSION:2.0
PRODID:-//Miracle Baptist Ministry - ECPv6.2.2.1//NONSGML v1.0//EN
CALSCALE:GREGORIAN
METHOD:PUBLISH
X-WR-CALNAME:Miracle Baptist Ministry
X-ORIGINAL-URL:https://miraclembc.org
X-WR-CALDESC:Events for Miracle Baptist Ministry
REFRESH-INTERVAL;VALUE=DURATION:PT1H
X-Robots-Tag:noindex
X-PUBLISHED-TTL:PT1H
BEGIN:VTIMEZONE
TZID:UTC
BEGIN:STANDARD
TZOFFSETFROM:+0000
TZOFFSETTO:+0000
TZNAME:UTC
DTSTART:20230101T000000
END:STANDARD
END:VTIMEZONE
BEGIN:VEVENT
DTSTART;TZID=UTC:20230706T183000
DTEND;TZID=UTC:20230706T183000
DTSTAMP:20260421T174033
CREATED:20230625T150210Z
LAST-MODIFIED:20230625T150210Z
UID:4167-1688668200-1688668200@miraclembc.org
SUMMARY:Men’s Ministry Meeting
DESCRIPTION:
URL:https://miraclembc.org/event/mens-ministry-meeting-2/
CATEGORIES:July 2023
END:VEVENT
END:VCALENDAR