BEGIN:VCALENDAR
VERSION:2.0
PRODID:-//Miracle Baptist Ministry - ECPv6.2.2.1//NONSGML v1.0//EN
CALSCALE:GREGORIAN
METHOD:PUBLISH
X-WR-CALNAME:Miracle Baptist Ministry
X-ORIGINAL-URL:https://miraclembc.org
X-WR-CALDESC:Events for Miracle Baptist Ministry
REFRESH-INTERVAL;VALUE=DURATION:PT1H
X-Robots-Tag:noindex
X-PUBLISHED-TTL:PT1H
BEGIN:VTIMEZONE
TZID:UTC
BEGIN:STANDARD
TZOFFSETFROM:+0000
TZOFFSETTO:+0000
TZNAME:UTC
DTSTART:20230101T000000
END:STANDARD
END:VTIMEZONE
BEGIN:VEVENT
DTSTART;TZID=UTC:20230708T110000
DTEND;TZID=UTC:20230708T110000
DTSTAMP:20260421T173935
CREATED:20230625T150323Z
LAST-MODIFIED:20230625T150323Z
UID:4169-1688814000-1688814000@miraclembc.org
SUMMARY:Senior Luncheon
DESCRIPTION:
URL:https://miraclembc.org/event/senior-luncheon/
CATEGORIES:July 2023
END:VEVENT
END:VCALENDAR