BEGIN:VCALENDAR
VERSION:2.0
PRODID:-//Miracle Baptist Ministry - ECPv6.2.2.1//NONSGML v1.0//EN
CALSCALE:GREGORIAN
METHOD:PUBLISH
X-WR-CALNAME:Miracle Baptist Ministry
X-ORIGINAL-URL:https://miraclembc.org
X-WR-CALDESC:Events for Miracle Baptist Ministry
REFRESH-INTERVAL;VALUE=DURATION:PT1H
X-Robots-Tag:noindex
X-PUBLISHED-TTL:PT1H
BEGIN:VTIMEZONE
TZID:UTC
BEGIN:STANDARD
TZOFFSETFROM:+0000
TZOFFSETTO:+0000
TZNAME:UTC
DTSTART:20230101T000000
END:STANDARD
END:VTIMEZONE
BEGIN:VEVENT
DTSTART;TZID=UTC:20230722T100000
DTEND;TZID=UTC:20230722T100000
DTSTAMP:20260421T174032
CREATED:20230708T152158Z
LAST-MODIFIED:20230708T152158Z
UID:4226-1690020000-1690020000@miraclembc.org
SUMMARY:Deacon and Deaconess Meeting
DESCRIPTION:
URL:https://miraclembc.org/event/deacon-and-deaconess-meeting/
CATEGORIES:July 2023
END:VEVENT
BEGIN:VEVENT
DTSTART;TZID=UTC:20230722T143000
DTEND;TZID=UTC:20230722T143000
DTSTAMP:20260421T174032
CREATED:20230625T150424Z
LAST-MODIFIED:20230625T150424Z
UID:4171-1690036200-1690036200@miraclembc.org
SUMMARY:Women’s Ministry Fellowship
DESCRIPTION:
URL:https://miraclembc.org/event/womens-ministry-fellowship-2/
CATEGORIES:July 2023
END:VEVENT
END:VCALENDAR