BEGIN:VCALENDAR
VERSION:2.0
PRODID:-//Miracle Baptist Ministry - ECPv6.2.2.1//NONSGML v1.0//EN
CALSCALE:GREGORIAN
METHOD:PUBLISH
X-WR-CALNAME:Miracle Baptist Ministry
X-ORIGINAL-URL:https://miraclembc.org
X-WR-CALDESC:Events for Miracle Baptist Ministry
REFRESH-INTERVAL;VALUE=DURATION:PT1H
X-Robots-Tag:noindex
X-PUBLISHED-TTL:PT1H
BEGIN:VTIMEZONE
TZID:UTC
BEGIN:STANDARD
TZOFFSETFROM:+0000
TZOFFSETTO:+0000
TZNAME:UTC
DTSTART:20190101T000000
END:STANDARD
END:VTIMEZONE
BEGIN:VEVENT
DTSTART;TZID=UTC:20190601T073000
DTEND;TZID=UTC:20190601T123000
DTSTAMP:20260422T100153
CREATED:20190512T115350Z
LAST-MODIFIED:20190529T211751Z
UID:1137-1559374200-1559392200@miraclembc.org
SUMMARY:Women’s conference 2019
DESCRIPTION:“WOMEN WHO PLEASE GOD”\nIf you are interested in attending\, please contact the church office. The deadline to sign up is Wednesday\, May 22\, 2019.
URL:https://miraclembc.org/event/womens-conference-2019-women-who-please-god/
LOCATION:FAIRVIEW HEIGHTS BAPTIST CHURCH\, 1215 MARLBOROUGH AVENUE\, INGLEWOOD\, CA  90302\, CA\, 90302\, United States
CATEGORIES:June 2019
END:VEVENT
BEGIN:VEVENT
DTSTART;TZID=UTC:20190602T174500
DTEND;TZID=UTC:20190602T174500
DTSTAMP:20260422T100153
CREATED:20190529T210419Z
LAST-MODIFIED:20190529T210419Z
UID:1194-1559497500-1559497500@miraclembc.org
SUMMARY:Holy Communion
DESCRIPTION:
URL:https://miraclembc.org/event/holy-communion-4/
LOCATION:CA
CATEGORIES:June 2019
END:VEVENT
BEGIN:VEVENT
DTSTART;TZID=UTC:20190608T090000
DTEND;TZID=UTC:20190608T120000
DTSTAMP:20260422T100153
CREATED:20190512T114906Z
LAST-MODIFIED:20190529T210801Z
UID:1134-1559984400-1559995200@miraclembc.org
SUMMARY:Men's Cook off
DESCRIPTION:All interested men are encouraged to participate and prepare a dish.  Please contact any Ministry member if interested.  More information will be forth coming.  Come join the Great Men of Miracle and enjoy delicious and specially prepared foods.  You may sign up NOW.  A meeting will be announced next Sunday.
URL:https://miraclembc.org/event/great-men-cook/
LOCATION:CA
CATEGORIES:June 2019
END:VEVENT
BEGIN:VEVENT
DTSTART;VALUE=DATE:20190609
DTEND;VALUE=DATE:20190610
DTSTAMP:20260422T100153
CREATED:20190529T210933Z
LAST-MODIFIED:20190529T210933Z
UID:1196-1560038400-1560124799@miraclembc.org
SUMMARY:Little Lambs Pizza Party
DESCRIPTION:
URL:https://miraclembc.org/event/little-lambs-pizza-party/
LOCATION:CA
CATEGORIES:June 2019
END:VEVENT
BEGIN:VEVENT
DTSTART;TZID=UTC:20190615T080000
DTEND;TZID=UTC:20190615T183000
DTSTAMP:20260422T100153
CREATED:20190529T211015Z
LAST-MODIFIED:20190529T211015Z
UID:1198-1560585600-1560623400@miraclembc.org
SUMMARY:Juneteenth
DESCRIPTION:
URL:https://miraclembc.org/event/juneteenth/
LOCATION:CA
CATEGORIES:June 2019
END:VEVENT
BEGIN:VEVENT
DTSTART;VALUE=DATE:20190616
DTEND;VALUE=DATE:20190617
DTSTAMP:20260422T100153
CREATED:20190529T211038Z
LAST-MODIFIED:20190529T211038Z
UID:1200-1560643200-1560729599@miraclembc.org
SUMMARY:Father’s Day
DESCRIPTION:
URL:https://miraclembc.org/event/fathers-day/
LOCATION:CA
CATEGORIES:June 2019
END:VEVENT
BEGIN:VEVENT
DTSTART;TZID=UTC:20190620T000000
DTEND;TZID=UTC:20190620T235959
DTSTAMP:20260422T100153
CREATED:20190529T211112Z
LAST-MODIFIED:20190529T211112Z
UID:1202-1560988800-1561075199@miraclembc.org
SUMMARY:Ministry Leaders Meeting
DESCRIPTION:
URL:https://miraclembc.org/event/ministry-leaders-meeting-2/
LOCATION:CA
CATEGORIES:June 2019
END:VEVENT
BEGIN:VEVENT
DTSTART;VALUE=DATE:20190622
DTEND;VALUE=DATE:20190623
DTSTAMP:20260422T100153
CREATED:20190529T211141Z
LAST-MODIFIED:20190618T205010Z
UID:1204-1561161600-1561247999@miraclembc.org
SUMMARY:MHPD Convalescent Visit / Health & Wellness Challenge
DESCRIPTION:
URL:https://miraclembc.org/event/mhpd-convalescent-visit/
LOCATION:CA
CATEGORIES:June 2019
END:VEVENT
BEGIN:VEVENT
DTSTART;VALUE=DATE:20190626
DTEND;VALUE=DATE:20190629
DTSTAMP:20260422T100153
CREATED:20190529T211255Z
LAST-MODIFIED:20190529T212532Z
UID:1208-1561507200-1561766399@miraclembc.org
SUMMARY:Youth/Collegiate Choir Youth Explosion
DESCRIPTION:
URL:https://miraclembc.org/event/youth-collegiate-choir-youth-explosion/
LOCATION:CA
CATEGORIES:June 2019
END:VEVENT
BEGIN:VEVENT
DTSTART;VALUE=DATE:20190629
DTEND;VALUE=DATE:20190630
DTSTAMP:20260422T100153
CREATED:20190529T212727Z
LAST-MODIFIED:20190618T210117Z
UID:1214-1561766400-1561852799@miraclembc.org
SUMMARY:New Members Fellowship / Boys Club Car Wash
DESCRIPTION:
URL:https://miraclembc.org/event/new-members-fellowship/
LOCATION:CA\, United States
CATEGORIES:June 2019
END:VEVENT
END:VCALENDAR