BEGIN:VCALENDAR
VERSION:2.0
PRODID:-//Miracle Baptist Ministry - ECPv6.2.2.1//NONSGML v1.0//EN
CALSCALE:GREGORIAN
METHOD:PUBLISH
X-WR-CALNAME:Miracle Baptist Ministry
X-ORIGINAL-URL:https://miraclembc.org
X-WR-CALDESC:Events for Miracle Baptist Ministry
REFRESH-INTERVAL;VALUE=DURATION:PT1H
X-Robots-Tag:noindex
X-PUBLISHED-TTL:PT1H
BEGIN:VTIMEZONE
TZID:UTC
BEGIN:STANDARD
TZOFFSETFROM:+0000
TZOFFSETTO:+0000
TZNAME:UTC
DTSTART:20200101T000000
END:STANDARD
END:VTIMEZONE
BEGIN:VEVENT
DTSTART;TZID=UTC:20200307T090000
DTEND;TZID=UTC:20200307T090000
DTSTAMP:20260422T143937
CREATED:20200301T125751Z
LAST-MODIFIED:20200301T125751Z
UID:1738-1583571600-1583571600@miraclembc.org
SUMMARY:MHPD PRACTICE
DESCRIPTION:
URL:https://miraclembc.org/event/mhpd-practice-2/
CATEGORIES:March 2020
END:VEVENT
BEGIN:VEVENT
DTSTART;VALUE=DATE:20200305
DTEND;VALUE=DATE:20200308
DTSTAMP:20260422T143937
CREATED:20200301T125700Z
LAST-MODIFIED:20200301T125700Z
UID:1736-1583366400-1583625599@miraclembc.org
SUMMARY:PICTURE DAY
DESCRIPTION:
URL:https://miraclembc.org/event/picture-day/
CATEGORIES:March 2020
END:VEVENT
BEGIN:VEVENT
DTSTART;TZID=UTC:20200301T174500
DTEND;TZID=UTC:20200301T174500
DTSTAMP:20260422T143937
CREATED:20200301T125430Z
LAST-MODIFIED:20200301T125430Z
UID:1732-1583084700-1583084700@miraclembc.org
SUMMARY:HOLY COMMUNION
DESCRIPTION:
URL:https://miraclembc.org/event/holy-communion-9/
CATEGORIES:March 2020
END:VEVENT
BEGIN:VEVENT
DTSTART;TZID=UTC:20200301T170000
DTEND;TZID=UTC:20200301T170000
DTSTAMP:20260422T143937
CREATED:20200301T125540Z
LAST-MODIFIED:20200301T125540Z
UID:1734-1583082000-1583082000@miraclembc.org
SUMMARY:MHPD PRACTICE
DESCRIPTION:
URL:https://miraclembc.org/event/mhpd-practice/
CATEGORIES:March 2020
END:VEVENT
END:VCALENDAR